BEGIN:VCALENDAR
VERSION:2.0
PRODID:-//The Presbyterian Church of Radford - ECPv6.15.20//NONSGML v1.0//EN
CALSCALE:GREGORIAN
METHOD:PUBLISH
X-WR-CALNAME:The Presbyterian Church of Radford
X-ORIGINAL-URL:https://pcradford.org
X-WR-CALDESC:Events for The Presbyterian Church of Radford
REFRESH-INTERVAL;VALUE=DURATION:PT1H
X-Robots-Tag:noindex
X-PUBLISHED-TTL:PT1H
BEGIN:VTIMEZONE
TZID:America/New_York
BEGIN:DAYLIGHT
TZOFFSETFROM:-0500
TZOFFSETTO:-0400
TZNAME:EDT
DTSTART:20230312T070000
END:DAYLIGHT
BEGIN:STANDARD
TZOFFSETFROM:-0400
TZOFFSETTO:-0500
TZNAME:EST
DTSTART:20231105T060000
END:STANDARD
BEGIN:DAYLIGHT
TZOFFSETFROM:-0500
TZOFFSETTO:-0400
TZNAME:EDT
DTSTART:20240310T070000
END:DAYLIGHT
BEGIN:STANDARD
TZOFFSETFROM:-0400
TZOFFSETTO:-0500
TZNAME:EST
DTSTART:20241103T060000
END:STANDARD
BEGIN:DAYLIGHT
TZOFFSETFROM:-0500
TZOFFSETTO:-0400
TZNAME:EDT
DTSTART:20250309T070000
END:DAYLIGHT
BEGIN:STANDARD
TZOFFSETFROM:-0400
TZOFFSETTO:-0500
TZNAME:EST
DTSTART:20251102T060000
END:STANDARD
END:VTIMEZONE
BEGIN:VEVENT
DTSTART;TZID=America/New_York:20241201T110000
DTEND;TZID=America/New_York:20241201T120000
DTSTAMP:20260420T044704
CREATED:20241004T154531Z
LAST-MODIFIED:20241004T154531Z
UID:4377-1733050800-1733054400@pcradford.org
SUMMARY:First Sunday in Advent - Door Wreaths and Advent Wreath in Sanctuary
DESCRIPTION:
URL:https://pcradford.org/event/first-sunday-in-advent-door-wreaths-and-advent-wreath-in-sanctuary/
END:VEVENT
BEGIN:VEVENT
DTSTART;TZID=America/New_York:20241203T080000
DTEND;TZID=America/New_York:20241203T170000
DTSTAMP:20260420T044704
CREATED:20241029T132726Z
LAST-MODIFIED:20241029T132726Z
UID:4481-1733212800-1733245200@pcradford.org
SUMMARY:Set up for Elf Shelf
DESCRIPTION:
URL:https://pcradford.org/event/set-up-for-elf-shelf/
END:VEVENT
BEGIN:VEVENT
DTSTART;TZID=America/New_York:20241204T080000
DTEND;TZID=America/New_York:20241204T170000
DTSTAMP:20260420T044704
CREATED:20241029T132743Z
LAST-MODIFIED:20241029T132743Z
UID:4482-1733299200-1733331600@pcradford.org
SUMMARY:Set up for Elf Shelf
DESCRIPTION:
URL:https://pcradford.org/event/set-up-for-elf-shelf-2/
END:VEVENT
BEGIN:VEVENT
DTSTART;TZID=America/New_York:20241204T120000
DTEND;TZID=America/New_York:20241204T130000
DTSTAMP:20260420T044704
CREATED:20241011T143930Z
LAST-MODIFIED:20241011T143930Z
UID:4429-1733313600-1733317200@pcradford.org
SUMMARY:Lunch Bunch
DESCRIPTION:
URL:https://pcradford.org/event/lunch-bunch-3/
END:VEVENT
BEGIN:VEVENT
DTSTART;TZID=America/New_York:20241205T080000
DTEND;TZID=America/New_York:20241205T170000
DTSTAMP:20260420T044704
CREATED:20241029T132822Z
LAST-MODIFIED:20241029T132822Z
UID:4483-1733385600-1733418000@pcradford.org
SUMMARY:Set up for Elf Shelf
DESCRIPTION:
URL:https://pcradford.org/event/set-up-for-elf-shelf-3/
END:VEVENT
BEGIN:VEVENT
DTSTART;TZID=America/New_York:20241205T170000
DTEND;TZID=America/New_York:20241205T180000
DTSTAMP:20260420T044704
CREATED:20241004T172035Z
LAST-MODIFIED:20241004T172035Z
UID:4403-1733418000-1733421600@pcradford.org
SUMMARY:Bobcat Backpack
DESCRIPTION:
URL:https://pcradford.org/event/bobcat-backpack-8/
END:VEVENT
BEGIN:VEVENT
DTSTART;TZID=America/New_York:20241206T080000
DTEND;TZID=America/New_York:20241206T170000
DTSTAMP:20260420T044704
CREATED:20241029T132903Z
LAST-MODIFIED:20241029T132903Z
UID:4484-1733472000-1733504400@pcradford.org
SUMMARY:Distribution of Elf Shelf Toys
DESCRIPTION:
URL:https://pcradford.org/event/distribution-of-elf-shelf-toys/
END:VEVENT
BEGIN:VEVENT
DTSTART;TZID=America/New_York:20241206T090000
DTEND;TZID=America/New_York:20241206T110000
DTSTAMP:20260420T044704
CREATED:20241004T154619Z
LAST-MODIFIED:20241004T154619Z
UID:4378-1733475600-1733482800@pcradford.org
SUMMARY:Worship Committee Decorates Sanctuary
DESCRIPTION:
URL:https://pcradford.org/event/worship-committee-decorates-sanctuary/
END:VEVENT
BEGIN:VEVENT
DTSTART;TZID=America/New_York:20241207T080000
DTEND;TZID=America/New_York:20241207T170000
DTSTAMP:20260420T044704
CREATED:20241029T132933Z
LAST-MODIFIED:20241029T132933Z
UID:4485-1733558400-1733590800@pcradford.org
SUMMARY:Distribution of Elf Shelf Toys
DESCRIPTION:
URL:https://pcradford.org/event/distribution-of-elf-shelf-toys-2/
END:VEVENT
BEGIN:VEVENT
DTSTART;TZID=America/New_York:20241207T090000
DTEND;TZID=America/New_York:20241207T100000
DTSTAMP:20260420T044704
CREATED:20241011T143118Z
LAST-MODIFIED:20241011T143118Z
UID:4416-1733562000-1733565600@pcradford.org
SUMMARY:Chancel Guild prep for communion
DESCRIPTION:
URL:https://pcradford.org/event/chancel-guild-prep-for-communion-3/
END:VEVENT
BEGIN:VEVENT
DTSTART;TZID=America/New_York:20241208T180000
DTEND;TZID=America/New_York:20241208T200000
DTSTAMP:20260420T044704
CREATED:20241004T154707Z
LAST-MODIFIED:20241004T154707Z
UID:4379-1733680800-1733688000@pcradford.org
SUMMARY:Christmas Dinner (Group 3 helps)
DESCRIPTION:
URL:https://pcradford.org/event/christmas-dinner-group-3-helps/
END:VEVENT
BEGIN:VEVENT
DTSTART;TZID=America/New_York:20241212T170000
DTEND;TZID=America/New_York:20241212T180000
DTSTAMP:20260420T044704
CREATED:20241004T172101Z
LAST-MODIFIED:20241004T172101Z
UID:4404-1734022800-1734026400@pcradford.org
SUMMARY:Bobcat Backpack
DESCRIPTION:
URL:https://pcradford.org/event/bobcat-backpack-9/
END:VEVENT
BEGIN:VEVENT
DTSTART;TZID=America/New_York:20241215T120000
DTEND;TZID=America/New_York:20241215T140000
DTSTAMP:20260420T044704
CREATED:20241004T172553Z
LAST-MODIFIED:20241004T172553Z
UID:4409-1734264000-1734271200@pcradford.org
SUMMARY:Christmas crafts gathering after Worship Service
DESCRIPTION:
URL:https://pcradford.org/event/christmas-crafts-gathering-after-worship-service/
END:VEVENT
BEGIN:VEVENT
DTSTART;TZID=America/New_York:20241219T170000
DTEND;TZID=America/New_York:20241219T180000
DTSTAMP:20260420T044704
CREATED:20241004T172128Z
LAST-MODIFIED:20241004T172128Z
UID:4405-1734627600-1734631200@pcradford.org
SUMMARY:Bobcat Backpack
DESCRIPTION:
URL:https://pcradford.org/event/bobcat-backpack-10/
END:VEVENT
BEGIN:VEVENT
DTSTART;TZID=America/New_York:20241221T090000
DTEND;TZID=America/New_York:20241221T110000
DTSTAMP:20260420T044704
CREATED:20241004T154740Z
LAST-MODIFIED:20241004T154740Z
UID:4380-1734771600-1734778800@pcradford.org
SUMMARY:Necessities Pantry
DESCRIPTION:
URL:https://pcradford.org/event/necessities-pantry-3/
END:VEVENT
BEGIN:VEVENT
DTSTART;TZID=America/New_York:20241222T110000
DTEND;TZID=America/New_York:20241222T120000
DTSTAMP:20260420T044704
CREATED:20241004T172645Z
LAST-MODIFIED:20241004T172645Z
UID:4410-1734865200-1734868800@pcradford.org
SUMMARY:Children’s Christmas Pageant during Worship Service
DESCRIPTION:
URL:https://pcradford.org/event/childrens-christmas-pageant-during-worship-service/
END:VEVENT
BEGIN:VEVENT
DTSTART;TZID=America/New_York:20241224T190000
DTEND;TZID=America/New_York:20241224T200000
DTSTAMP:20260420T044704
CREATED:20241004T154816Z
LAST-MODIFIED:20241004T154816Z
UID:4381-1735066800-1735070400@pcradford.org
SUMMARY:Christmas Eve Service
DESCRIPTION:
URL:https://pcradford.org/event/christmas-eve-service/
END:VEVENT
BEGIN:VEVENT
DTSTART;VALUE=DATE:20241225
DTEND;VALUE=DATE:20241226
DTSTAMP:20260420T044704
CREATED:20241004T154840Z
LAST-MODIFIED:20241004T154840Z
UID:4382-1735084800-1735171199@pcradford.org
SUMMARY:Christmas Day
DESCRIPTION:
URL:https://pcradford.org/event/christmas-day/
END:VEVENT
BEGIN:VEVENT
DTSTART;TZID=America/New_York:20241229T110000
DTEND;TZID=America/New_York:20241229T120000
DTSTAMP:20260420T044704
CREATED:20241004T172744Z
LAST-MODIFIED:20241004T172744Z
UID:4411-1735470000-1735473600@pcradford.org
SUMMARY:No Sunday School for children or Children’s Church
DESCRIPTION:
URL:https://pcradford.org/event/no-sunday-school-for-children-or-childrens-church/
END:VEVENT
END:VCALENDAR